BEGIN:VCALENDAR
VERSION:2.0
PRODID:-//ChamberMaster//Event Calendar 2.0//EN
METHOD:PUBLISH
X-PUBLISHED-TTL:P3D
REFRESH-INTERVAL:P3D
CALSCALE:GREGORIAN
BEGIN:VEVENT
DTSTART:20240202T000000Z
DTEND:20240202T020000Z
X-MICROSOFT-CDO-ALLDAYEVENT:FALSE
SUMMARY:Line Dancing beginners class
DESCRIPTION:Class #1 of Session 1
X-ALT-DESC;FMTTYPE=text/html:Class #1 of Session 1
LOCATION:Backus Community Center
UID:e.10.6450
SEQUENCE:3
DTSTAMP:20260425T215614Z
URL:http://internationalfallschamber.chambermaster.com/events/details/line-dancing-beginners-class-6450
END:VEVENT

END:VCALENDAR
